BEGIN:VCALENDAR
VERSION:2.0
PRODID:-//Tukios.com/
BEGIN:VEVENT
UID:5353500e-299b-4bd1-884d-bfac87baae21@www.peasleefuneralhome.com
DTSTAMP:20260422T024344Z
DTSTART:20260427T150000Z
DTEND:20260427T160000Z
SUMMARY:Funeral Mass
DESCRIPTION:
URL:https://www.peasleefuneralhome.com/obituaries/steven-roseberry
LOCATION:St. Ignatius of Loyola Roman Catholic Parish: St. Martin Church 
	120 Maple Street  Somersworth NH 03878
GEO:43.2586589;-70.8790426
END:VEVENT
END:VCALENDAR