BEGIN:VCALENDAR
VERSION:2.0
PRODID:-//Tukios.com/
BEGIN:VEVENT
UID:13f58cd3-1f02-4482-84f4-3766b69a12df@www.peasleefuneralhome.com
DTSTAMP:20260422T024344Z
DTSTART:20260426T180000Z
DTEND:20260426T210000Z
SUMMARY:Visitation
DESCRIPTION:
URL:https://www.peasleefuneralhome.com/obituaries/steven-roseberry
LOCATION: 24 Central St  Farmington NH 03835
GEO:43.3888067;-71.0666915
END:VEVENT
END:VCALENDAR