BEGIN:VCALENDAR
VERSION:2.0
PRODID:-//Tukios.com/
BEGIN:VEVENT
UID:c2941df8-3d68-4286-9c6e-11b198ca1e24@www.peasleefuneralhome.com
DTSTAMP:20260421T145814Z
DTSTART:20260423
SUMMARY:Interment
DESCRIPTION:To follow Funeral Service
URL:https://www.peasleefuneralhome.com/obituaries/donna-chesley
LOCATION: Cemetery Rd  Farmington NH 03835
GEO:43.3854356;-71.0591028
END:VEVENT
END:VCALENDAR