BEGIN:VCALENDAR
VERSION:2.0
PRODID:-//Tukios.com/
BEGIN:VEVENT
UID:09cd7c38-416e-4489-a677-5d4aab2a8578@www.peasleefuneralhome.com
DTSTAMP:20260421T145358Z
DTSTART:20260423T160000Z
DTEND:20260423T170000Z
SUMMARY:Funeral Service
DESCRIPTION:
URL:https://www.peasleefuneralhome.com/obituaries/donna-chesley
LOCATION: 24 Central St  Farmington NH 03835
GEO:43.3888067;-71.0666915
END:VEVENT
END:VCALENDAR