BEGIN:VCALENDAR
VERSION:2.0
PRODID:-//Tukios.com/
BEGIN:VEVENT
UID:cf5855b0-23b0-4430-a67a-361a96ebf5a0@www.peasleefuneralhome.com
DTSTAMP:20260421T145406Z
DTSTART:20260423T150000Z
DTEND:20260423T160000Z
SUMMARY:Visitation
DESCRIPTION:
URL:https://www.peasleefuneralhome.com/obituaries/donna-chesley
LOCATION: 24 Central St  Farmington NH 03835
GEO:43.3888067;-71.0666915
END:VEVENT
END:VCALENDAR