BEGIN:VCALENDAR
VERSION:2.0
PRODID:-//Tukios.com/
BEGIN:VEVENT
UID:46e3db6a-4af6-4327-9a06-c8e0ba0cec86@www.peasleefuneralhome.com
DTSTAMP:20260422T203659Z
DTSTART:20260428T210000Z
DTEND:20260428T230000Z
SUMMARY:Visitation
DESCRIPTION:
URL:https://www.peasleefuneralhome.com/obituaries/debra-brownell
LOCATION: 24 Central St  Farmington NH 03835
GEO:43.3888067;-71.0666915
END:VEVENT
END:VCALENDAR